BEGIN:VCALENDAR
VERSION:2.0
PRODID:-//eventon.com NONSGML v1.0//EN
BEGIN:VEVENT
UID:69e9c816c9966
DTSTAMP:20260423T081950
DTSTART:20191213T230000Z
DTEND:20191214T225900Z
LOCATION:Michelangelo via Micco\,  7 80049 Somma Vesuviana\,  Napoli
SUMMARY:Corso controlli non distruttivi metodo magnetoscopico
DESCRIPTION: Prossima data corso controlli non distruttivi metodo magnetoscopico MT.   CORSO MT  14 dicembre corso magnetoscopico MT   Il corso preparerà Operatori ai Controlli non Distruttivi di II livello e prevede il rilascio della Certificazione UNI EN 9712. Per maggiori informazioni sul corso.
END:VEVENT
END:VCALENDAR